BEGIN:VCALENDAR
VERSION:2.0
PRODID:-//orienteering.lu//NONSGML kigkonsult.se iCalcreator 2.10.5//
METHOD:PUBLISH
X-WR-CALDESC:<p>Regional race and university championship</p>
X-WR-TIMEZONE:Europe/Luxembourg
BEGIN:VEVENT
UID:20201210T204543CET-793173gpsO@orienteering.lu
DTSTAMP:20201210T191243Z
CREATED:20200923T225425Z
DESCRIPTION:Regional race and university championship
DTSTART;VALUE=DATE:20210306
LAST-MODIFIED:20200924T111943Z
LOCATION: (0.000000\, 0.000000\, 11)
ORGANIZER:MAILTO:someone
SUMMARY:Race in Vlessart
URL:http://orienteering.lu/en/calendar/events/race-in-vlessart/
END:VEVENT
END:VCALENDAR
