BEGIN:VCALENDAR
VERSION:2.0
PRODID:-//orienteering.lu//NONSGML kigkonsult.se iCalcreator 2.10.5//
METHOD:PUBLISH
X-WR-CALDESC:<p>Certainly the event of the year. Impossible to miss it !</p
 >
X-WR-TIMEZONE:Europe/Luxembourg
BEGIN:VEVENT
UID:20201210T204546CET-93292ggAst@orienteering.lu
DTSTAMP:20201210T191246Z
CREATED:20200923T225617Z
DESCRIPTION:Certainly the event of the year. Impossible to miss it !
DTSTART;VALUE=DATE:20210522
DTEND;VALUE=DATE:20210524
LAST-MODIFIED:20200924T092914Z
LOCATION:Saint-Vith\, Verviers\, Liège\, Wallonie\, 4780\, Belgique (50.279
 469\, 6.127968\, 11)
ORGANIZER:MAILTO:someone
SUMMARY:3 days of Belgium 2021\, in Saint Vith
URL:http://orienteering.lu/en/calendar/events/3-days-of-belgium-2021-around
 -saint-vith/
END:VEVENT
END:VCALENDAR
