BEGIN:VCALENDAR
VERSION:2.0
PRODID:-//orienteering.lu//NONSGML kigkonsult.se iCalcreator 2.10.5//
METHOD:PUBLISH
X-WR-CALDESC:
X-WR-TIMEZONE:Europe/Luxembourg
BEGIN:VEVENT
UID:20180701T085734CEST-2665waajGk@orienteering.lu
DTSTAMP:20180701T060734Z
CREATED:20160616T223840Z
DESCRIPTION:
DTSTART;VALUE=DATE:20160911
LAST-MODIFIED:20160616T223926Z
LOCATION:Plappeville\, Metz\, Moselle\, Alsace–Champagne-Ardenne–Lorraine\,
  Metropolitan France\, 57050\, France (49.131016\, 6.125013\, 11)
SUMMARY:O'Race - Plappeville\, France
URL:https://orienteering.lu/en/calendar/events/orace-plappeville-france/
END:VEVENT
END:VCALENDAR
