BEGIN:VCALENDAR
VERSION:2.0
PRODID:-//orienteering.lu//NONSGML kigkonsult.se iCalcreator 2.10.5//
METHOD:PUBLISH
X-WR-CALDESC:
X-WR-TIMEZONE:Europe/Luxembourg
BEGIN:VEVENT
UID:20180701T085727CEST-8430E05eOE@orienteering.lu
DTSTAMP:20180701T060727Z
CREATED:20160616T223959Z
DESCRIPTION:
DTSTART;VALUE=DATE:20160917
LAST-MODIFIED:20160616T224546Z
LOCATION:Brussels\, Brussels-Capital\, Belgium (50.846558\, 4.351697\, 10)
SUMMARY:BOM - Middle distance - Brussels
URL:https://orienteering.lu/en/calendar/events/bom-middle-distance-brussels
 /
END:VEVENT
END:VCALENDAR
