BEGIN:VCALENDAR
VERSION:2.0
PRODID:-//orienteering.lu//NONSGML kigkonsult.se iCalcreator 2.10.5//
METHOD:PUBLISH
X-WR-CALDESC:<p>Two years after the first edition\, which took place on the
  cobblestones and in the alleys of Brussels city centre\, the BOM is retur
 ning in 2016 with something completely different: the unique urban terrain
  of Louvain-la-Neuve. This city that was founded out of nothing in 1969 se
 ems to have been specially designed for the enjoyment of orienteers: under
 passes\, walkways\, alleys\, stairs\, parks … and many other surprises. So
  no race in the centre of Brussels is offered this time\, but instead\, a 
 fascinating university town south of the Belgian capital.</p>\n\n<p>The BO
 M\, a long distance urban orienteering race\, is organized by <a href='htt
 p://www.altair-co.be/'>Altaïr CO</a>\, orienteering club in the region of 
 Walloon Brabant\, in close collaboration with the <a href='https://www.sit
 es.google.com/site/lostorientation/'>LOST</a> (Louvain Orientation Sport T
 eam).</p>\n\n<p>To complete the weekend\, the day before the BOM\, on <str
 ong>Saturday\, September 17\, 2016</strong>\, a middle distance forest rac
 e is organized by <a href='http://www.asub-orientation.org'>ASUB</a> (Brus
 sels-based orienteering club) near Brussels.</p>\n\n<p>Do not miss out on 
 this event! Whatever your experience in orienteering: fun is guaranteed.</
 p>
X-WR-TIMEZONE:Europe/Luxembourg
BEGIN:VEVENT
UID:20180701T085711CEST-4391PL7ITl@orienteering.lu
DTSTAMP:20180701T060711Z
CREATED:20160616T224604Z
DESCRIPTION:Two years after the first edition\, which took place on the cob
 blestones and in the alleys of Brussels city centre\, the BOM is returning
  in 2016 with something completely different: the unique urban terrain of 
 Louvain-la-Neuve. This city that was founded out of nothing in 1969 seems 
 to have been specially designed for the enjoyment of orienteers: underpass
 es\, walkways\, alleys\, stairs\, parks … and many other surprises. So no 
 race in the centre of Brussels is offered this time\, but instead\, a fasc
 inating university town south of the Belgian capital.\n\nThe BOM\, a long 
 distance urban orienteering race\, is organized by Altaïr CO\, orienteerin
 g club in the region of Walloon Brabant\, in close collaboration with the 
 LOST (Louvain Orientation Sport Team).\n\nTo complete the weekend\, the da
 y before the BOM\, on Saturday\, September 17\, 2016\, a middle distance f
 orest race is organized by ASUB (Brussels-based orienteering club) near Br
 ussels.\n\nDo not miss out on this event! Whatever your experience in orie
 nteering: fun is guaranteed.
DTSTART;VALUE=DATE:20160918
LAST-MODIFIED:20160616T224952Z
LOCATION:LLN\, Ottignies-Louvain-la-Neuve\, Nivelles\, Walloon Brabant\, Wa
 llonia\, 1348\, Belgium (50.674168\, 4.614157\, 10)
SUMMARY:BOM - Louvain la neuve
URL:https://orienteering.lu/en/calendar/events/bom-louvain-la-neuve/
END:VEVENT
END:VCALENDAR
