BEGIN:VCALENDAR
VERSION:2.0
PRODID:-//orienteering.lu//NONSGML kigkonsult.se iCalcreator 2.10.5//
METHOD:PUBLISH
X-WR-CALDESC:<ul><li>Meeting point in Gandrange: 49°16’51\,8’’ N – 6°07’50\
 ,7’’ E</li>\n	<li>From 9:30</li>\n	<li>Subscription on-site.<strong> </str
 ong>2€/person. Familly: 5€</li>\n	<li>8 km\, 5 km or 2 km</li>\n</ul><p> <
 /p>
X-WR-TIMEZONE:Europe/Luxembourg
BEGIN:VEVENT
UID:20180701T085718CEST-9267cmRDCs@orienteering.lu
DTSTAMP:20180701T060718Z
CREATED:20160616T225012Z
DESCRIPTION:Meeting point in Gandrange: 49°16’51\,8’’ N – 6°07’50\,7’’ E\n	
 From 9:30\n	Subscription on-site. 2€/person. Familly: 5€\n	8 km\, 5 km or 
 2 km\n 
DTSTART;VALUE=DATE:20160918
LAST-MODIFIED:20160915T100504Z
LOCATION:D 10\, Gandrange\, Thionville\, Moselle\, Grand-Est\, Metropolitan
  France\, 57175\, France (49.281075\, 6.130521\, 15)
SUMMARY:Rand'O 57
URL:https://orienteering.lu/en/calendar/events/rand-o-57/
END:VEVENT
END:VCALENDAR
