BEGIN:VCALENDAR
VERSION:2.0
PRODID:-//orienteering.lu//NONSGML kigkonsult.se iCalcreator 2.10.5//
METHOD:PUBLISH
X-WR-CALDESC:
X-WR-TIMEZONE:Europe/Luxembourg
BEGIN:VEVENT
UID:20180701T085654CEST-7502VbuuXW@orienteering.lu
DTSTAMP:20180701T060754Z
CREATED:20160616T225254Z
DESCRIPTION:
DTSTART;VALUE=DATE:20160925
LAST-MODIFIED:20160616T225355Z
LOCATION:Sarrebruck\, Regionalverband Saarbrücken\, Saarland\, Germany (49.
 234364\, 6.996379\, 9)
SUMMARY:6th SaarlandCup = Saarlandmeisterschaft
URL:https://orienteering.lu/en/calendar/events/6th-saarlandcup-saarlandmeis
 terschaft/
END:VEVENT
END:VCALENDAR
