BEGIN:VCALENDAR
VERSION:2.0
PRODID:-//orienteering.lu//NONSGML kigkonsult.se iCalcreator 2.10.5//
METHOD:PUBLISH
X-WR-CALDESC:<ul><li>No information available yet</li>\n	<li>It should be l
 ocated around Metz</li>\n</ul>
X-WR-TIMEZONE:Europe/Luxembourg
BEGIN:VEVENT
UID:20180701T085648CEST-8458ILedsa@orienteering.lu
DTSTAMP:20180701T060748Z
CREATED:20160616T225425Z
DESCRIPTION:No information available yet\n	It should be located around Metz
DTSTART;VALUE=DATE:20161002
LAST-MODIFIED:20160915T101633Z
LOCATION:La Maxe\, Metz\, Moselle\, Grand-Est\, Metropolitan France\, 57140
 \, France (49.150723\, 6.181183\, 11)
SUMMARY:Moselle championship - stage 6
URL:https://orienteering.lu/en/calendar/events/orace-around-metz-france/
END:VEVENT
END:VCALENDAR
