BEGIN:VCALENDAR
VERSION:2.0
PRODID:-//orienteering.lu//NONSGML kigkonsult.se iCalcreator 2.10.5//
METHOD:PUBLISH
X-WR-CALDESC:<p>Herbst-Orientierungslauf Trier 2016<br />\nWandern und Orie
 ntierungslauf für Jedermann und für Kinder</p>\n\n<p>Sonntag\, 9. Oktober 
 2016<br />\nWKZ: Clubhaus des Trimmelter SV Trier\, Kohlenstr.55<br />\nKa
 rte: WTD-Tarforst M 1:10000<br />\nGemischtes Wald-\, Feld- und Wiesengelä
 nde\, kleiner Anteil Wohnbebauung.</p>\n\n<p>Start: Fußweg 900m\, ausgefla
 ggt. Mit dem PKW zu erreichen.<br />\nAusrichter: Trimmelter SV Trier Vera
 nstalter: Turnverband Mittelrhein<br />\nZeitplan: Öffnung WKZ 11:45 Uhr\,
  fliegender Start: 14 - 15 Uhr\, Zielschluss: 16.10 Uhr<br />\nMeldeschlus
 s: Sonntag\, 2.10.2016<br />\nMeldedaten: Name\, Vorname\, Verein\, Jg.\, 
 SI-Nr.\, ggf. Wunschkategorie a.K. (Leihchip vorhanden)<br />\nMeldung nat
 ürlich auch in einer Wunschkategorie ist möglich<br />\nMeldung ausschließ
 lich über mail an: j.pfannkuchen@trimmelter-sv.de</p>\n\n<p>Bahnlängen ca.
 <br />\nBahn 1 6800m: H19-39 H40-54<br />\nBahn 2 6100m: D19-39 D40-54 D15
 -18 H15-18<br />\nBahn 3 4900m: D/H11-14 D/H55-64 D/H65+<br />\nBahn 4 290
 0m D/H10 Wanderer SI und/oder Kontrollzange<br />\nBahn 5 4200m Anfänger/W
 anderer SI und/oder Kontrollzange<br />\nBahn 6 1000m Kinder/Anfänger rund
  ums Vereinsgelände Kontrollzange</p>\n\n<p><br />\nStartgebühr:<br />\nab
  19 Jahre : 6\,- Euro<br />\nbis einschl. 18 Jahre : 3\,- Euro<br />\nNach
 -/Ummeldegebühr: 2\,- Euro<br />\nKinder : 1\,- Euro</p>
X-WR-TIMEZONE:Europe/Luxembourg
BEGIN:VEVENT
UID:20180701T085635CEST-7869NKwtUh@orienteering.lu
DTSTAMP:20180701T060735Z
CREATED:20160616T225521Z
DESCRIPTION:Herbst-Orientierungslauf Trier 2016\n\nWandern und Orientierung
 slauf für Jedermann und für Kinder\n\nSonntag\, 9. Oktober 2016\n\nWKZ: Cl
 ubhaus des Trimmelter SV Trier\, Kohlenstr.55\n\nKarte: WTD-Tarforst M 1:1
 0000\n\nGemischtes Wald-\, Feld- und Wiesengelände\, kleiner Anteil Wohnbe
 bauung.\n\nStart: Fußweg 900m\, ausgeflaggt. Mit dem PKW zu erreichen.\n
 Ausrichter: Trimmelter SV Trier Veranstalter: Turnverband Mittelrhein\n\nZ
 eitplan: Öffnung WKZ 11:45 Uhr\, fliegender Start: 14 - 15 Uhr\, Zielschlu
 ss: 16.10 Uhr\n\nMeldeschluss: Sonntag\, 2.10.2016\n\nMeldedaten: Name\, V
 orname\, Verein\, Jg.\, SI-Nr.\, ggf. Wunschkategorie a.K. (Leihchip vorha
 nden)\n\nMeldung natürlich auch in einer Wunschkategorie ist möglich\n\nMe
 ldung ausschließlich über mail an: j.pfannkuchen@trimmelter-sv.de\n\nBahnl
 ängen ca.\n\nBahn 1 6800m: H19-39 H40-54\n\nBahn 2 6100m: D19-39 D40-54 D1
 5-18 H15-18\n\nBahn 3 4900m: D/H11-14 D/H55-64 D/H65+\n\nBahn 4 2900m D/H1
 0 Wanderer SI und/oder Kontrollzange\n\nBahn 5 4200m Anfänger/Wanderer SI 
 und/oder Kontrollzange\n\nBahn 6 1000m Kinder/Anfänger rund ums Vereinsgel
 ände Kontrollzange\n\n\n\nStartgebühr:\n\nab 19 Jahre : 6\,- Euro\n\nbis e
 inschl. 18 Jahre : 3\,- Euro\n\nNach-/Ummeldegebühr: 2\,- Euro\n\nKinder :
  1\,- Euro
DTSTART:20161009T140000
DTEND:20161009T150000
LAST-MODIFIED:20161009T173652Z
LOCATION:Kohlenstraße\, Tarforst\, Trier\, Rhineland-Palatinate\, 54296\, G
 ermany (49.743301\, 6.693072\, 11)
SUMMARY:Orientierungslauf für Jedermann und Kinder
URL:https://orienteering.lu/en/calendar/events/orientierungslauf-fur-jederm
 ann-und-kinder/
END:VEVENT
END:VCALENDAR
