BEGIN:VCALENDAR
VERSION:2.0
PRODID:-//orienteering.lu//NONSGML kigkonsult.se iCalcreator 2.10.5//
METHOD:PUBLISH
X-WR-CALDESC:<p>Orienteering competition organised by Fameck club. See deta
 il (in French) here: http://www.orientation-fameck.fr/wp-content/uploads/2
 016/10/Annonce-D%C3%A9partementale-YUTZ_2016-10-16.pdf</p>\n\n<p>Meeting p
 oint is 'rue de la forêt' in Yutz\, at 10:00.</p>
X-WR-TIMEZONE:Europe/Luxembourg
BEGIN:VEVENT
UID:20180701T085620CEST-02639m6Fvh@orienteering.lu
DTSTAMP:20180701T060720Z
CREATED:20160616T225639Z
DESCRIPTION:Orienteering competition organised by Fameck club. See detail (
 in French) here: http://www.orientation-fameck.fr/wp-content/uploads/2016/
 10/Annonce-D%C3%A9partementale-YUTZ_2016-10-16.pdf\n\nMeeting point is 'ru
 e de la forêt' in Yutz\, at 10:00.
DTSTART:20161016T100000
LAST-MODIFIED:20161013T131040Z
LOCATION:Parcours de Santé\, Haute Yutz\, Yutz\, Thionville\, Moselle\, Gre
 at East\, 57970\, France (49.343426\, 6.198757\, 14)
SUMMARY:O'Race - Yutz\, France
URL:https://orienteering.lu/en/calendar/events/orace-yutz-france/
END:VEVENT
END:VCALENDAR
