BEGIN:VCALENDAR
VERSION:2.0
PRODID:-//orienteering.lu//NONSGML kigkonsult.se iCalcreator 2.10.5//
METHOD:PUBLISH
X-WR-CALDESC:
X-WR-TIMEZONE:Europe/Luxembourg
BEGIN:VEVENT
UID:20180701T085548CEST-6631Iua5ou@orienteering.lu
DTSTAMP:20180701T060748Z
CREATED:20160616T225744Z
DESCRIPTION:
DTSTART;VALUE=DATE:20161111
DTEND;VALUE=DATE:20161113
LAST-MODIFIED:20161103T185603Z
LOCATION:Watermael-Boitsfort\, Brussels-Capital\, 1170\, Belgium (50.786839
 \, 4.439850\, 10)
SUMMARY:3 jours de la forêt de Soignes 2016
URL:https://orienteering.lu/en/calendar/events/3-jours-de-la-foret-de-soign
 es-2016/
END:VEVENT
END:VCALENDAR
