BEGIN:VCALENDAR
VERSION:2.0
PRODID:-//orienteering.lu//NONSGML kigkonsult.se iCalcreator 2.10.5//
METHOD:PUBLISH
X-WR-CALDESC:<p>Place = TBD</p>
X-WR-TIMEZONE:Europe/Luxembourg
BEGIN:VEVENT
UID:20180701T085542CEST-7338HS5hZ3@orienteering.lu
DTSTAMP:20180701T060742Z
CREATED:20160616T230318Z
DESCRIPTION:Place = TBD
DTSTART;VALUE=DATE:20161203
LAST-MODIFIED:20161009T173536Z
LOCATION: (0.000000\, 0.000000\, 11)
SUMMARY:SaarlandCup 7 (Night O) = Nikolaus-OL
URL:https://orienteering.lu/en/calendar/events/saarlandcup-7-night-o-nikola
 us-ol/
END:VEVENT
END:VCALENDAR
