BEGIN:VCALENDAR
VERSION:2.0
PRODID:-//orienteering.lu//NONSGML kigkonsult.se iCalcreator 2.10.5//
METHOD:PUBLISH
X-WR-CALDESC:<p>Course individuelle avec départ de masse.</p>\n\n<p>Il s’ag
 it de suivre un itinéraire sur sentiers et chemins\, mentionné sur la cart
 e mais non balisé en forêt\, et de pointer les balises rencontrée.</p>\n
 <p>Possibilité de quitter les sentiers pour rejoindre la balise suivante p
 lus rapidement.</p>\n\n<p><a href='http://www.frso.be/uploads/452-OrienTRA
 IL20160815_AnnonceFRSO.pdf'>http://www.frso.be/uploads/452-OrienTRAIL20160
 815_AnnonceFRSO.pdf</a></p>
X-WR-TIMEZONE:Europe/Luxembourg
BEGIN:VEVENT
UID:20180701T085740CEST-2430vVTAVb@orienteering.lu
DTSTAMP:20180701T060740Z
CREATED:20160708T160738Z
DESCRIPTION:Course individuelle avec départ de masse.\n\nIl s’agit de suivr
 e un itinéraire sur sentiers et chemins\, mentionné sur la carte mais non 
 balisé en forêt\, et de pointer les balises rencontrée.\n\nPossibilité de 
 quitter les sentiers pour rejoindre la balise suivante plus rapidement.
 http://www.frso.be/uploads/452-OrienTRAIL20160815_AnnonceFRSO.pdf
DTSTART;VALUE=DATE:20160815
LAST-MODIFIED:20160708T161327Z
LOCATION:La Baraque de Fraiture\, N89\, Vielsalm\, Bastogne\, Luxembourg\, 
 Wallonia\, 6690\, Belgium (50.248882\, 5.737659\, 9)
SUMMARY:OrienTRAIL 2015\, Belgium
URL:https://orienteering.lu/en/calendar/events/orientrail-2015-belgium/
END:VEVENT
END:VCALENDAR
