BEGIN:VCALENDAR
VERSION:2.0
PRODID:-//orienteering.lu//NONSGML kigkonsult.se iCalcreator 2.10.5//
METHOD:PUBLISH
X-WR-CALDESC:<p>5 days orienteering\, quite close to Luxembourg. Organiser 
 is Fameck club.</p>
X-WR-TIMEZONE:Europe/Luxembourg
BEGIN:VEVENT
UID:20180701T083514CEST-6740U4jxV9@orienteering.lu
DTSTAMP:20180701T060714Z
CREATED:20160717T215959Z
DESCRIPTION:5 days orienteering\, quite close to Luxembourg. Organiser is F
 ameck club.
DTSTART;VALUE=DATE:20180708
DTEND;VALUE=DATE:20180714
LAST-MODIFIED:20180121T172604Z
LOCATION:Walscheid\, Sarrebourg\, Moselle\, Grand-Est\, France métropolitai
 ne\, 57870\, France (48.653294\, 7.149232\, 8)
SUMMARY:O'France 2018
URL:https://orienteering.lu/en/calendar/events/ofrance-2018/
END:VEVENT
END:VCALENDAR
