BEGIN:VCALENDAR
VERSION:2.0
PRODID:-//orienteering.lu//NONSGML kigkonsult.se iCalcreator 2.10.5//
METHOD:PUBLISH
X-WR-CALDESC:
X-WR-TIMEZONE:Europe/Luxembourg
BEGIN:VEVENT
UID:20180701T085525CEST-8598wuGs1r@orienteering.lu
DTSTAMP:20180701T060725Z
CREATED:20160717T220849Z
DESCRIPTION:
DTSTART;VALUE=DATE:20161226
DTEND;VALUE=DATE:20161230
LAST-MODIFIED:20161009T173518Z
LOCATION:Limbourg\, Flandre\, Belgique (50.997807\, 5.445529\, 9)
SUMMARY:Sylvester 5-days orienteering
URL:https://orienteering.lu/en/calendar/events/sylvester-5-days-orienteerin
 g/
END:VEVENT
END:VCALENDAR
