BEGIN:VCALENDAR
VERSION:2.0
PRODID:-//orienteering.lu//NONSGML kigkonsult.se iCalcreator 2.10.5//
METHOD:PUBLISH
X-WR-CALDESC:
X-WR-TIMEZONE:Europe/Luxembourg
BEGIN:VEVENT
UID:20180701T085021CEST-8416haBrM7@orienteering.lu
DTSTAMP:20180701T060721Z
CREATED:20160717T221314Z
DESCRIPTION:
DTSTART;VALUE=DATE:20170603
DTEND;VALUE=DATE:20170605
LAST-MODIFIED:20170604T223912Z
LOCATION:Lommel\, Maaseik\, Limbourg\, Flandre\, 3920\, Belgique (51.226883
 \, 5.308800\, 12)
SUMMARY:3 days of Belgium 2017
URL:https://orienteering.lu/en/calendar/events/3-days-of-belgium/
END:VEVENT
END:VCALENDAR
