BEGIN:VCALENDAR
VERSION:2.0
PRODID:-//orienteering.lu//NONSGML kigkonsult.se iCalcreator 2.10.5//
METHOD:PUBLISH
X-WR-CALDESC:
X-WR-TIMEZONE:Europe/Luxembourg
BEGIN:VEVENT
UID:20180701T085641CEST-9630B0HB8m@orienteering.lu
DTSTAMP:20180701T060741Z
CREATED:20160828T220303Z
DESCRIPTION:
DTSTART;VALUE=DATE:20161002
LAST-MODIFIED:20161009T173703Z
LOCATION: (0.000000\, 0.000000\, 11)
SUMMARY:Belgian club championship 2016
URL:https://orienteering.lu/en/calendar/events/belgian-club-championship-20
 16/
END:VEVENT
END:VCALENDAR
