BEGIN:VCALENDAR
VERSION:2.0
PRODID:-//orienteering.lu//NONSGML kigkonsult.se iCalcreator 2.10.5//
METHOD:PUBLISH
X-WR-CALDESC:<p>LuxOC has to be present for this world-class event !</p>
 <p>For the first time\, the 10MILA will be held in the western part of Swe
 den. Clubs based in Gothenburg are the organizers of the race in an excell
 ent area in Partille. It will be the wilderness near the big city. The are
 a has been used previously for the O-ring 1990 and the Junior World Champi
 onships in 2008.</p>
X-WR-TIMEZONE:Europe/Luxembourg
BEGIN:VEVENT
UID:20180701T085203CEST-69256t53F9@orienteering.lu
DTSTAMP:20180701T060703Z
CREATED:20160909T164941Z
DESCRIPTION:LuxOC has to be present for this world-class event !\n\nFor the
  first time\, the 10MILA will be held in the western part of Sweden. Clubs
  based in Gothenburg are the organizers of the race in an excellent area i
 n Partille. It will be the wilderness near the big city. The area has been
  used previously for the O-ring 1990 and the Junior World Championships in
  2008.
DTSTART;VALUE=DATE:20170429
DTEND;VALUE=DATE:20170430
LAST-MODIFIED:20161212T091952Z
LOCATION:Partille\, Västra Götalands län\, Götaland\, Sweden (0.000000\, 0.
 000000\, 6)
SUMMARY:Tiomila 2017
URL:https://orienteering.lu/en/calendar/events/tiomila-2017/
END:VEVENT
END:VCALENDAR
