BEGIN:VCALENDAR
VERSION:2.0
PRODID:-//orienteering.lu//NONSGML kigkonsult.se iCalcreator 2.10.5//
METHOD:PUBLISH
X-WR-CALDESC:<ul><li>Saturday afternoon: Sprint in Mailly-Champagne</li>\n	
 <li>Saturday evening: Night race in Ville-en-Selve</li>\n	<li>Sunday morni
 ng: Long distance in Villers-Marmery</li>\n</ul>
X-WR-TIMEZONE:Europe/Luxembourg
BEGIN:VEVENT
UID:20180701T085627CEST-0263DwwgJa@orienteering.lu
DTSTAMP:20180701T060727Z
CREATED:20160914T220545Z
DESCRIPTION:Saturday afternoon: Sprint in Mailly-Champagne\n	Saturday eveni
 ng: Night race in Ville-en-Selve\n	Sunday morning: Long distance in Viller
 s-Marmery
DTSTART;VALUE=DATE:20161015
DTEND;VALUE=DATE:20161016
LAST-MODIFIED:20161009T173645Z
LOCATION:Ludes\, Reims\, Marne\, Grand-Est\, France métropolitaine\, 51500\
 , France (49.143986\, 4.085541\, 12)
SUMMARY:O'Champagne 2016
URL:https://orienteering.lu/en/calendar/events/ochampagne-2016/
END:VEVENT
END:VCALENDAR
