BEGIN:VCALENDAR
VERSION:2.0
PRODID:-//orienteering.lu//NONSGML kigkonsult.se iCalcreator 2.10.5//
METHOD:PUBLISH
X-WR-CALDESC:
X-WR-TIMEZONE:Europe/Luxembourg
BEGIN:VEVENT
UID:20180701T085702CEST-5458ihX1ul@orienteering.lu
DTSTAMP:20180701T060702Z
CREATED:20160915T223813Z
DESCRIPTION:
DTSTART;VALUE=DATE:20160925
DTEND;VALUE=DATE:20160925
LAST-MODIFIED:20160915T224016Z
LOCATION:E42\, Saint-Vith\, Verviers\, Liège\, Wallonie\, 4780\, Belgique (
 50.289310\, 6.098528\, 9)
SUMMARY:Relay Belgium Championship
URL:https://orienteering.lu/en/calendar/events/relay-belgium-championship/
END:VEVENT
END:VCALENDAR
