BEGIN:VCALENDAR
VERSION:2.0
PRODID:-//orienteering.lu//NONSGML kigkonsult.se iCalcreator 2.10.5//
METHOD:PUBLISH
X-WR-CALDESC:<p>Rheinland Pfalz championships near Koblenz. Plenty of open 
 classes.</p>
X-WR-TIMEZONE:Europe/Luxembourg
BEGIN:VEVENT
UID:20180701T085554CEST-9736JuJ92v@orienteering.lu
DTSTAMP:20180701T060754Z
CREATED:20160917T093226Z
DESCRIPTION:Rheinland Pfalz championships near Koblenz. Plenty of open clas
 ses.
DTSTART;VALUE=DATE:20161029
DTEND;VALUE=DATE:20161029
LAST-MODIFIED:20161009T173613Z
LOCATION:Westerwaldkreis\, Rhineland-Palatinate\, Germany (50.386944\, 7.71
 3333\, 9)
SUMMARY:Rheinland-Pfalz-Meisterschaften
URL:https://orienteering.lu/en/calendar/events/rheinland-pfalz-meisterschaf
 ten/
END:VEVENT
END:VCALENDAR
