BEGIN:VCALENDAR
VERSION:2.0
PRODID:-//orienteering.lu//NONSGML kigkonsult.se iCalcreator 2.10.5//
METHOD:PUBLISH
X-WR-CALDESC:<p>Training for kids and adults organized by Gabi and Orsi.</p
 >\n\n<p>1 <strong>short and easy</strong> course for beginners (in the are
 a of the sports centre\, map 1:2000)\, 1 <strong>medium </strong>course fo
 r braver/more experienced kids and 1 <strong>long </strong>course for adul
 ts and adventurers (both in the surrounding forest\, map 1:5000).</p>\n\n<
 p>See you at 14:30 in the parking lot next to Centre Sportif l'Hydrion (se
 e map). If you arrive later\, we'll probably be inside\, come through the 
 gate and find us. Phone number: 661733234.</p>\n\n<p>Please write an e-mai
 l to olukoczky_at_gmail_dot_com to let us know how many of you are coming 
 and which course you're interested in.</p>
X-WR-TIMEZONE:Europe/Luxembourg
BEGIN:VEVENT
UID:20180701T085601CEST-1240b30BjP@orienteering.lu
DTSTAMP:20180701T060701Z
CREATED:20161006T214142Z
DESCRIPTION:Training for kids and adults organized by Gabi and Orsi.\n\n1 s
 hort and easy course for beginners (in the area of the sports centre\, map
  1:2000)\, 1 medium course for braver/more experienced kids and 1 long cou
 rse for adults and adventurers (both in the surrounding forest\, map 1:500
 0).\n\nSee you at 14:30 in the parking lot next to Centre Sportif l'Hydrio
 n (see map). If you arrive later\, we'll probably be inside\, come through
  the gate and find us. Phone number: 661733234.\n\nPlease write an e-mail 
 to olukoczky_at_gmail_dot_com to let us know how many of you are coming an
 d which course you're interested in.
DTSTART:20161023T143000
LAST-MODIFIED:20161018T152101Z
LOCATION:Centre Sportif l'Hydrion\, Rue de l'Hydrion\, Hetchegass\, Arlon\,
  Luxembourg\, Wallonia\, 6700\;6704\;6706\, Belgium (49.683350\, 5.795186\
 , 17)
SUMMARY:LUX OC training in Arlon by Gabi and Orsi
URL:https://orienteering.lu/en/calendar/events/luxoc-training-1023/
END:VEVENT
END:VCALENDAR
