BEGIN:VCALENDAR
VERSION:2.0
PRODID:-//orienteering.lu//NONSGML kigkonsult.se iCalcreator 2.10.5//
METHOD:PUBLISH
X-WR-CALDESC:<p>Training for children and other beginners.<br />\nMeeting p
 oint: Luxembourg city\, Bambesch\, basketball field 50m north of the wodde
 n castle in the playground (see map)<br />\nInscriptions until Sunday morn
 ing (16th October) at <a href='mailto:elisabet.wirtz@lemmel.at' target='_b
 lank'>elisabet.wirtz@lemmel.at</a><br />\nPlease bring your own compass if
  you have one.</p>
X-WR-TIMEZONE:Europe/Luxembourg
BEGIN:VEVENT
UID:20180701T085614CEST-2361zC4g2w@orienteering.lu
DTSTAMP:20180701T060714Z
CREATED:20161006T225627Z
DESCRIPTION:Training for children and other beginners.\n\nMeeting point: Lu
 xembourg city\, Bambesch\, basketball field 50m north of the wodden castle
  in the playground (see map)\n\nInscriptions until Sunday morning (16th Oc
 tober) at elisabet.wirtz@lemmel.at\n\nPlease bring your own compass if you
  have one.
DTSTART:20161016T160000
LAST-MODIFIED:20161009T173628Z
LOCATION:Allée des Présidents\, Mühlenbach\, Muhlenbach\, Luxembourg\, Cant
 on Luxembourg\, 1139\, Luxembourg (49.633415\, 6.114804\, 17)
SUMMARY:LUX OC training in Bambesch by Elisabet
URL:https://orienteering.lu/en/calendar/events/luxoc_training_1016/
END:VEVENT
END:VCALENDAR
