BEGIN:VCALENDAR
VERSION:2.0
PRODID:-//orienteering.lu//NONSGML kigkonsult.se iCalcreator 2.10.5//
METHOD:PUBLISH
X-WR-CALDESC:<p>Replanned Lorraine régionale in Vosges. Note as of today (1
 5/10)\, event details not yet posted.</p>
X-WR-TIMEZONE:Europe/Luxembourg
BEGIN:VEVENT
UID:20180701T085607CEST-4772LtVKBS@orienteering.lu
DTSTAMP:20180701T060707Z
CREATED:20161015T124747Z
DESCRIPTION:Replanned Lorraine régionale in Vosges. Note as of today (15/10
 )\, event details not yet posted.
DTSTART;VALUE=DATE:20161023
LAST-MODIFIED:20161015T125026Z
LOCATION:Le Tholy\, Épinal\, Vosges\, Great East\, 88530\, France (48.08348
 1\, 6.744221\, 12)
SUMMARY:Lorraine Régionale 1 rearranged - Tholy
URL:https://orienteering.lu/en/calendar/events/lorraine-regionale-1-rearran
 ged-tholy/
END:VEVENT
END:VCALENDAR
