BEGIN:VCALENDAR
VERSION:2.0
PRODID:-//orienteering.lu//NONSGML kigkonsult.se iCalcreator 2.10.5//
METHOD:PUBLISH
X-WR-CALDESC:
X-WR-TIMEZONE:Europe/Luxembourg
BEGIN:VEVENT
UID:20180701T085531CEST-5028dfLkfP@orienteering.lu
DTSTAMP:20180701T060731Z
CREATED:20161210T223644Z
DESCRIPTION:
DTSTART;VALUE=DATE:20161218
DTEND;VALUE=DATE:20161218
LAST-MODIFIED:20161210T223907Z
LOCATION:Chiny\, Virton\, Luxembourg\, Wallonie\, 6810\;6811\;6812\;6813\, 
 Belgique (49.736908\, 5.345020\, 13)
SUMMARY:Hivernale Chiny Lacuisine
URL:https://orienteering.lu/en/calendar/events/hivernale-chiny-lacuisine/
END:VEVENT
END:VCALENDAR
