BEGIN:VCALENDAR
VERSION:2.0
PRODID:-//orienteering.lu//NONSGML kigkonsult.se iCalcreator 2.10.5//
METHOD:PUBLISH
X-WR-CALDESC:<p>https://www.asub-orientation.org/index.php?app=events&amp\;
 id=10</p>\n\n<p>https://www.asub-orientation.org/index.php?app=events&amp\
 ;id=11</p>
X-WR-TIMEZONE:Europe/Luxembourg
BEGIN:VEVENT
UID:20180701T085537CEST-4510iVMD4I@orienteering.lu
DTSTAMP:20180701T060737Z
CREATED:20161210T224017Z
DESCRIPTION:https://www.asub-orientation.org/index.php?app=events&id=10\n
 https://www.asub-orientation.org/index.php?app=events&id=11
DTSTART;VALUE=DATE:20161211
DTEND;VALUE=DATE:20161211
LAST-MODIFIED:20161210T224258Z
LOCATION:Watermael-Boitsfort\, Bruxelles-Capitale\, 1170\, Belgique (50.772
 945\, 4.416161\, 11)
SUMMARY:Race + OrienTRAIL en Forêt de Soignes
URL:https://orienteering.lu/en/calendar/events/orientrail-en-foret-de-soign
 es/
END:VEVENT
END:VCALENDAR
