BEGIN:VCALENDAR
VERSION:2.0
PRODID:-//orienteering.lu//NONSGML kigkonsult.se iCalcreator 2.10.5//
METHOD:PUBLISH
X-WR-CALDESC:
X-WR-TIMEZONE:Europe/Luxembourg
BEGIN:VEVENT
UID:20180701T085519CEST-7501z42R2K@orienteering.lu
DTSTAMP:20180701T060719Z
CREATED:20161210T224430Z
DESCRIPTION:
DTSTART;VALUE=DATE:20170108
DTEND;VALUE=DATE:20170108
LAST-MODIFIED:20161210T224607Z
LOCATION:Saint-Vith\, Verviers\, Liège\, Wallonie\, 4780\, Belgique (50.287
 148\, 6.070118\, 13)
SUMMARY:Hivernale - Rodt
URL:https://orienteering.lu/en/calendar/events/hivernale-rodt/
END:VEVENT
END:VCALENDAR
