BEGIN:VCALENDAR
VERSION:2.0
PRODID:-//orienteering.lu//NONSGML kigkonsult.se iCalcreator 2.10.5//
METHOD:PUBLISH
X-WR-CALDESC:
X-WR-TIMEZONE:Europe/Luxembourg
BEGIN:VEVENT
UID:20180701T085514CEST-1649NWRvLl@orienteering.lu
DTSTAMP:20180701T060714Z
CREATED:20161210T224706Z
DESCRIPTION:
DTSTART;VALUE=DATE:20170115
DTEND;VALUE=DATE:20170115
LAST-MODIFIED:20161210T224827Z
LOCATION:Engreux\, Houffalize\, Bastogne\, Luxembourg\, Wallonie\, 6660\;66
 61\;6662\;6663\;6666\, Belgique (50.121704\, 5.703235\, 13)
SUMMARY:Ultra Longues Distances Engreux
URL:https://orienteering.lu/en/calendar/events/ultra-longues-distances/
END:VEVENT
END:VCALENDAR
