BEGIN:VCALENDAR
VERSION:2.0
PRODID:-//orienteering.lu//NONSGML kigkonsult.se iCalcreator 2.10.5//
METHOD:PUBLISH
X-WR-CALDESC:
X-WR-TIMEZONE:Europe/Luxembourg
BEGIN:VEVENT
UID:20180701T085455CEST-0973MsvH6V@orienteering.lu
DTSTAMP:20180701T060755Z
CREATED:20161210T225051Z
DESCRIPTION:
DTSTART;VALUE=DATE:20170204
DTEND;VALUE=DATE:20170205
LAST-MODIFIED:20161210T225511Z
LOCATION:Houyet\, Dinant\, Namur\, Wallonie\, Belgique (50.201077\, 5.02624
 5\, 13)
SUMMARY:Karrim'HOC 2017
URL:https://orienteering.lu/en/calendar/events/karrimhoc/
END:VEVENT
END:VCALENDAR
