BEGIN:VCALENDAR
VERSION:2.0
PRODID:-//orienteering.lu//NONSGML kigkonsult.se iCalcreator 2.10.5//
METHOD:PUBLISH
X-WR-CALDESC:
X-WR-TIMEZONE:Europe/Luxembourg
BEGIN:VEVENT
UID:20180701T085440CEST-24858XbEr4@orienteering.lu
DTSTAMP:20180701T060740Z
CREATED:20161210T225543Z
DESCRIPTION:
DTSTART;VALUE=DATE:20170211
DTEND;VALUE=DATE:20170211
LAST-MODIFIED:20161210T225702Z
LOCATION:Hetchegass\, Arlon\, Luxembourg\, Wallonie\, 6700\;6704\;6706\, Be
 lgique (49.683681\, 5.795159\, 16)
SUMMARY:Samedi FRSO - Hydrion Arlon
URL:https://orienteering.lu/en/calendar/events/samedi-frso-hydrion-arlon/
END:VEVENT
END:VCALENDAR
