BEGIN:VCALENDAR
VERSION:2.0
PRODID:-//orienteering.lu//NONSGML kigkonsult.se iCalcreator 2.10.5//
METHOD:PUBLISH
X-WR-CALDESC:
X-WR-TIMEZONE:Europe/Luxembourg
BEGIN:VEVENT
UID:20180701T085431CEST-7911nvSMrN@orienteering.lu
DTSTAMP:20180701T060731Z
CREATED:20161210T225754Z
DESCRIPTION:
DTSTART;VALUE=DATE:20170212
DTEND;VALUE=DATE:20170212
LAST-MODIFIED:20161210T225847Z
LOCATION:Rue de la Poste\, Martelange\, Arlon\, Luxembourg\, Wallonie\, 663
 0\, Belgique (49.831673\, 5.737524\, 14)
SUMMARY:Hivernale 9 Couleurs - Martelange
URL:https://orienteering.lu/en/calendar/events/hivernale-9-couleurs-martela
 nge/
END:VEVENT
END:VCALENDAR
