BEGIN:VCALENDAR
VERSION:2.0
PRODID:-//orienteering.lu//NONSGML kigkonsult.se iCalcreator 2.10.5//
METHOD:PUBLISH
X-WR-CALDESC:
X-WR-TIMEZONE:Europe/Luxembourg
BEGIN:VEVENT
UID:20180701T085419CEST-1347DoUx4c@orienteering.lu
DTSTAMP:20180701T060719Z
CREATED:20161210T225952Z
DESCRIPTION:
DTSTART;VALUE=DATE:20170225
DTEND;VALUE=DATE:20170225
LAST-MODIFIED:20161210T230116Z
LOCATION:Rue des Ardennes\, Saint-Hubert\, Neufchâteau\, Luxembourg\, Wallo
 nie\, 6870\, Belgique (50.019016\, 5.293694\, 14)
SUMMARY:Samedi FRSO - Poix SaintHubert
URL:https://orienteering.lu/en/calendar/events/samedi-frso-poix-sainthubert
 /
END:VEVENT
END:VCALENDAR
