BEGIN:VCALENDAR
VERSION:2.0
PRODID:-//orienteering.lu//NONSGML kigkonsult.se iCalcreator 2.10.5//
METHOD:PUBLISH
X-WR-CALDESC:
X-WR-TIMEZONE:Europe/Luxembourg
BEGIN:VEVENT
UID:20180701T085353CEST-6596RHuEa4@orienteering.lu
DTSTAMP:20180701T060753Z
CREATED:20161210T230946Z
DESCRIPTION:
DTSTART;VALUE=DATE:20170311
DTEND;VALUE=DATE:20170312
LAST-MODIFIED:20161210T231229Z
LOCATION:Ferrières\, Huy\, Liège\, Wallonie\, 4190\, Belgique (50.417049\, 
 5.643539\, 12)
SUMMARY:3 races - Hermathenae
URL:https://orienteering.lu/en/calendar/events/3-hermathenae/
END:VEVENT
END:VCALENDAR
