BEGIN:VCALENDAR
VERSION:2.0
PRODID:-//orienteering.lu//NONSGML kigkonsult.se iCalcreator 2.10.5//
METHOD:PUBLISH
X-WR-CALDESC:
X-WR-TIMEZONE:Europe/Luxembourg
BEGIN:VEVENT
UID:20180701T085328CEST-9632eWA0JL@orienteering.lu
DTSTAMP:20180701T060728Z
CREATED:20161210T231413Z
DESCRIPTION:
DTSTART;VALUE=DATE:20170319
DTEND;VALUE=DATE:20170319
LAST-MODIFIED:20161210T231523Z
LOCATION:Wirtzfelder Straße\, Butgenbach\, Verviers\, Liège\, Wallonie\, 47
 50\, Belgique (50.457451\, 6.220279\, 12)
SUMMARY:Hivernale 4 Couleurs - Elsenborn
URL:https://orienteering.lu/en/calendar/events/hivernale-4-couleurs-elsenbo
 rn/
END:VEVENT
END:VCALENDAR
