BEGIN:VCALENDAR
VERSION:2.0
PRODID:-//orienteering.lu//NONSGML kigkonsult.se iCalcreator 2.10.5//
METHOD:PUBLISH
X-WR-CALDESC:
X-WR-TIMEZONE:Europe/Luxembourg
BEGIN:VEVENT
UID:20180701T085242CEST-7410pPXHb0@orienteering.lu
DTSTAMP:20180701T060742Z
CREATED:20161210T231713Z
DESCRIPTION:
DTSTART;VALUE=DATE:20170401
DTEND;VALUE=DATE:20170401
LAST-MODIFIED:20170306T221922Z
LOCATION:Route des Forges\, Neufchâteau\, Luxembourg\, Wallonie\, 6840\, Be
 lgique (49.858501\, 5.372314\, 15)
SUMMARY:Middle Distance Grandvoir
URL:https://orienteering.lu/en/calendar/events/interland-2017-middle/
END:VEVENT
END:VCALENDAR
