BEGIN:VCALENDAR
VERSION:2.0
PRODID:-//orienteering.lu//NONSGML kigkonsult.se iCalcreator 2.10.5//
METHOD:PUBLISH
X-WR-CALDESC:
X-WR-TIMEZONE:Europe/Luxembourg
BEGIN:VEVENT
UID:20180701T085501CEST-6006dWLV27@orienteering.lu
DTSTAMP:20180701T060701Z
CREATED:20161210T232728Z
DESCRIPTION:
DTSTART;VALUE=DATE:20170129
DTEND;VALUE=DATE:20170129
LAST-MODIFIED:20161210T233547Z
LOCATION:Etion\, Charleville-Mézières\, Ardennes\, Grand-Est\, 08000\, Fran
 ce (49.759422\, 4.719315\, 10)
SUMMARY:TASO1 - Charleville-Mézière
URL:https://orienteering.lu/en/calendar/events/taso1/
END:VEVENT
END:VCALENDAR
