BEGIN:VCALENDAR
VERSION:2.0
PRODID:-//orienteering.lu//NONSGML kigkonsult.se iCalcreator 2.10.5//
METHOD:PUBLISH
X-WR-CALDESC:
X-WR-TIMEZONE:Europe/Luxembourg
BEGIN:VEVENT
UID:20180701T085406CEST-3841zmuGj9@orienteering.lu
DTSTAMP:20180701T060706Z
CREATED:20161210T232855Z
DESCRIPTION:
DTSTART;VALUE=DATE:20170305
DTEND;VALUE=DATE:20170305
LAST-MODIFIED:20161210T233018Z
LOCATION:Devant-les-Ponts\, Metz\, Moselle\, Grand-Est\, 57000\;57050\;5707
 0\, France (49.130283\, 6.124535\, 12)
SUMMARY:Régionale Longue Distance - PLAPPEVILLE
URL:https://orienteering.lu/en/calendar/events/plappeville/
END:VEVENT
END:VCALENDAR
