BEGIN:VCALENDAR
VERSION:2.0
PRODID:-//orienteering.lu//NONSGML kigkonsult.se iCalcreator 2.10.5//
METHOD:PUBLISH
X-WR-CALDESC:
X-WR-TIMEZONE:Europe/Luxembourg
BEGIN:VEVENT
UID:20180701T085345CEST-9048eEn0Ur@orienteering.lu
DTSTAMP:20180701T060745Z
CREATED:20161210T233104Z
DESCRIPTION:
DTSTART;VALUE=DATE:20170311
DTEND;VALUE=DATE:20170311
LAST-MODIFIED:20161210T233204Z
LOCATION:Nouzonville\, Charleville-Mézières\, Ardennes\, Grand-Est\, 08700\
 , France (49.815613\, 4.741287\, 12)
SUMMARY:TASO2 - Nouzonville
URL:https://orienteering.lu/en/calendar/events/taso2-nouzonville/
END:VEVENT
END:VCALENDAR
