BEGIN:VCALENDAR
VERSION:2.0
PRODID:-//orienteering.lu//NONSGML kigkonsult.se iCalcreator 2.10.5//
METHOD:PUBLISH
X-WR-CALDESC:<p>Middle and Long distance races on two days. More informatio
 n soon on http://scapaorientation.free.fr/</p>
X-WR-TIMEZONE:Europe/Luxembourg
BEGIN:VEVENT
UID:20180701T085314CEST-5512jVHOuD@orienteering.lu
DTSTAMP:20180701T060714Z
CREATED:20161210T233302Z
DESCRIPTION:Middle and Long distance races on two days. More information so
 on on http://scapaorientation.free.fr/
DTSTART;VALUE=DATE:20170325
DTEND;VALUE=DATE:20170326
LAST-MODIFIED:20170126T094824Z
LOCATION:Clairlieu\, Villers-lès-Nancy\, Nancy\, Meurthe-et-Moselle\, Grand
 -Est\, 54600\, France (48.669426\, 6.150284\, 11)
SUMMARY:Championnat Grand Est - Nancy
URL:https://orienteering.lu/en/calendar/events/championnat-de-ligue-moyenne
 -distance/
END:VEVENT
END:VCALENDAR
