BEGIN:VCALENDAR
VERSION:2.0
PRODID:-//orienteering.lu//NONSGML kigkonsult.se iCalcreator 2.10.5//
METHOD:PUBLISH
X-WR-CALDESC:<ul><li>Sprint\, 1:4000</li>\n	<li>Start from 10:00 to 11:30.<
 /li>\n	<li>In the afternoon\, training possible on forest map (Schwarzenbe
 rg)</li>\n	<li>Registration: https://omanager.orientierungslauf.de/service
 /f?p=105:7:::NO::P7_ID:3221</li>\n</ul>
X-WR-TIMEZONE:Europe/Luxembourg
BEGIN:VEVENT
UID:20180701T085425CEST-85888WcF9U@orienteering.lu
DTSTAMP:20180701T060725Z
CREATED:20161211T104040Z
DESCRIPTION:Sprint\, 1:4000\n	Start from 10:00 to 11:30.\n	In the afternoon
 \, training possible on forest map (Schwarzenberg)\n	Registration: https:/
 /omanager.orientierungslauf.de/service/f?p=105:7:::NO::P7_ID:3221
DTSTART;VALUE=DATE:20170219
DTEND;VALUE=DATE:20170219
LAST-MODIFIED:20170213T220753Z
LOCATION:Campus\, Sankt Johann\, Bezirk Mitte\, Sarrebruck\, Regionalverban
 d Saarbrücken\, Sarre\, 66123\, Allemagne (49.251659\, 7.039490\, 16)
SUMMARY:1. Lauf SaarlandCup - Sprint race + forest training
URL:https://orienteering.lu/en/calendar/events/1-lauf-saarlandcup-2017/
END:VEVENT
END:VCALENDAR
