BEGIN:VCALENDAR
VERSION:2.0
PRODID:-//orienteering.lu//NONSGML kigkonsult.se iCalcreator 2.10.5//
METHOD:PUBLISH
X-WR-CALDESC:
X-WR-TIMEZONE:Europe/Luxembourg
BEGIN:VEVENT
UID:20180701T085150CEST-7154OtgAUn@orienteering.lu
DTSTAMP:20180701T060750Z
CREATED:20170118T233126Z
DESCRIPTION:
DTSTART;VALUE=DATE:20170506
DTEND;VALUE=DATE:20170507
LAST-MODIFIED:20170118T233232Z
LOCATION: (0.000000\, 0.000000\, 0)
SUMMARY:Paris city race
URL:https://orienteering.lu/en/calendar/events/paris-city-race/
END:VEVENT
END:VCALENDAR
