BEGIN:VCALENDAR
VERSION:2.0
PRODID:-//orienteering.lu//NONSGML kigkonsult.se iCalcreator 2.10.5//
METHOD:PUBLISH
X-WR-CALDESC:<p>SudOLux training + Initiation for newbies.</p>\n\n<p>Meetin
 g: 10:00 at the cemetery parking of Saint Leger.</p>\n\n<p>Contact person:
  frsojndebehogne@skynet.be</p>
X-WR-TIMEZONE:Europe/Luxembourg
BEGIN:VEVENT
UID:20180701T085507CEST-8775zUx1fu@orienteering.lu
DTSTAMP:20180701T060707Z
CREATED:20170126T093223Z
DESCRIPTION:SudOLux training + Initiation for newbies.\n\nMeeting: 10:00 at
  the cemetery parking of Saint Leger.\n\nContact person: frsojndebehogne@s
 kynet.be
DTSTART:20170128T100000
DTEND:20170128T130000
LAST-MODIFIED:20170126T094218Z
LOCATION:Voie de Vance\, Saint-Léger\, Virton\, Luxembourg\, Wallonia\, 674
 7\, Belgium (49.618675\, 5.659858\, 16)
SUMMARY:SudOLux training 28 Jan 2017
URL:https://orienteering.lu/en/calendar/events/sudoluxtraining/
END:VEVENT
END:VCALENDAR
