BEGIN:VCALENDAR
VERSION:2.0
PRODID:-//orienteering.lu//NONSGML kigkonsult.se iCalcreator 2.10.5//
METHOD:PUBLISH
X-WR-CALDESC:<p>SudOLux training + Initiation for newbies.</p>\n\n<p>Meetin
 g: 10:00 at Habay la Neuve football field.</p>\n\n<p>Contact person: frsoj
 ndebehogne@skynet.be</p>
X-WR-TIMEZONE:Europe/Luxembourg
BEGIN:VEVENT
UID:20180701T085446CEST-873129FHSK@orienteering.lu
DTSTAMP:20180701T060746Z
CREATED:20170126T093803Z
DESCRIPTION:SudOLux training + Initiation for newbies.\n\nMeeting: 10:00 at
  Habay la Neuve football field.\n\nContact person: frsojndebehogne@skynet.
 be
DTSTART:20170204T100000
DTEND:20170204T130000
LAST-MODIFIED:20170126T094257Z
LOCATION:Rue des Carrosses\, Habay\, Virton\, Luxembourg\, Wallonia\, 6720\
 ;6721\;6723\;6724\, Belgium (49.734062\, 5.655041\, 17)
SUMMARY:SudOLux training 4 Feb 2017
URL:https://orienteering.lu/en/calendar/events/sudolux-training-4-feb-2017/
END:VEVENT
END:VCALENDAR
