BEGIN:VCALENDAR
VERSION:2.0
PRODID:-//orienteering.lu//NONSGML kigkonsult.se iCalcreator 2.10.5//
METHOD:PUBLISH
X-WR-CALDESC:<p>More information soon.</p>
X-WR-TIMEZONE:Europe/Luxembourg
BEGIN:VEVENT
UID:20180701T085222CEST-6863vU008h@orienteering.lu
DTSTAMP:20180701T060722Z
CREATED:20170126T095404Z
DESCRIPTION:More information soon.
DTSTART;VALUE=DATE:20170409
DTEND;VALUE=DATE:20170409
LAST-MODIFIED:20170126T095945Z
LOCATION:Rue de Rivolet\, Lunéville\, Meurthe-et-Moselle\, Great East\, 543
 00\, France (48.587780\, 6.497104\, 9)
SUMMARY:Regional race - Luneville - 9 Apr
URL:https://orienteering.lu/en/calendar/events/regional-race-luneville-9-ap
 r/
END:VEVENT
END:VCALENDAR
