BEGIN:VCALENDAR
VERSION:2.0
PRODID:-//orienteering.lu//NONSGML kigkonsult.se iCalcreator 2.10.5//
METHOD:PUBLISH
X-WR-CALDESC:<p>See http://www.orientierungslauf.de/3/1/1/5538</p>\n\n<p>ht
 tp://www.ol-im-saarland.de/einzelansicht/?tx_ttnews%5Btt_news%5D=263&amp\;
 cHash=0943c9ace6a2b15aa9f3f5e94f78bf7a</p>
X-WR-TIMEZONE:Europe/Luxembourg
BEGIN:VEVENT
UID:20180701T085321CEST-65142e4P73@orienteering.lu
DTSTAMP:20180701T060721Z
CREATED:20170126T100403Z
DESCRIPTION:See http://www.orientierungslauf.de/3/1/1/5538\n\nhttp://www.ol
 -im-saarland.de/einzelansicht/?tx_ttnews%5Btt_news%5D=263&cHash=0943c9ace6
 a2b15aa9f3f5e94f78bf7a
DTSTART;VALUE=DATE:20170319
DTEND;VALUE=DATE:20170319
LAST-MODIFIED:20170317T103211Z
LOCATION:Roter Flur\, St. Ingbert-Mitte\, St. Ingbert\, Sankt Ingbert\, Saa
 rpfalz-Kreis\, Saarland\, 66386\, Germany (49.278500\, 7.115622\, 12)
SUMMARY:Lauf SaarlandCup 2 - 2017
URL:https://orienteering.lu/en/calendar/events/lauf-saarlandcup-2-2017/
END:VEVENT
END:VCALENDAR
