BEGIN:VCALENDAR
VERSION:2.0
PRODID:-//orienteering.lu//NONSGML kigkonsult.se iCalcreator 2.10.5//
METHOD:PUBLISH
X-WR-CALDESC:<p>See http://www.trimmelter-sv.de/tsv-orientierungslauf.html<
 /p>\n\n<p>Meeting: 14:00 at WKZ-Kohlenstr.55\, Clubhaus des Trimmelter SV 
 Trier</p>
X-WR-TIMEZONE:Europe/Luxembourg
BEGIN:VEVENT
UID:20180701T085255CEST-52298TWDTh@orienteering.lu
DTSTAMP:20180701T060755Z
CREATED:20170126T100842Z
DESCRIPTION:See http://www.trimmelter-sv.de/tsv-orientierungslauf.html\n\nM
 eeting: 14:00 at WKZ-Kohlenstr.55\, Clubhaus des Trimmelter SV Trier
DTSTART:20170325T140000
DTEND:20170325T170000
LAST-MODIFIED:20170126T101158Z
LOCATION:Kohlenstraße\, Tarforst\, Trier\, Rhineland-Palatinate\, 54296\, G
 ermany (49.742744\, 6.692841\, 14)
SUMMARY:Offene Stadtmeisterschaft Trier 2017
URL:https://orienteering.lu/en/calendar/events/offene-stadtmeisterschaft-tr
 ier-2017/
END:VEVENT
END:VCALENDAR
