BEGIN:VCALENDAR
VERSION:2.0
PRODID:-//orienteering.lu//NONSGML kigkonsult.se iCalcreator 2.10.5//
METHOD:PUBLISH
X-WR-CALDESC:<p>3 races over 2 days:</p>\n\n<table><tbody><tr><td>Samstag\,
  1.Juli</td>\n			<td>3.Lauf zum SaarlandCup = 1.Lauf zur Saar-OL-Challenge
 </td>\n			<td>(Bierbach)</td>\n		</tr><tr><td>Samstag\, 1.Juli</td>\n			<t
 d>2.Lauf zur Saar-OL-Challenge</td>\n			<td>(Bierbach)</td>\n		</tr><tr><t
 d>Sonntag\, 2.Juli</td>\n			<td>4.Lauf zum SaarlandCup = 3.Lauf zur Saar-O
 L-Challenge</td>\n			<td>(Bierbach)</td>\n		</tr></tbody></table><p>See:</
 p>\n\n<ul><li>http://www.orientierungslauf.de/3/1/1/5616</li>\n	<li>http:/
 /www.ol-im-saarland.de/fileadmin/wettkampf/2017/Ausschreibung-Saar-Challen
 ge-2017.pdf</li>\n</ul>
X-WR-TIMEZONE:Europe/Luxembourg
BEGIN:VEVENT
UID:20180701T084830CEST-177422pCw1@orienteering.lu
DTSTAMP:20180701T060730Z
CREATED:20170126T101408Z
DESCRIPTION:3 races over 2 days:\n\nSamstag\, 1.Juli\n			3.Lauf zum Saarlan
 dCup = 1.Lauf zur Saar-OL-Challenge\n			(Bierbach)\n		Samstag\, 1.Juli\n		
 	2.Lauf zur Saar-OL-Challenge\n			(Bierbach)\n		Sonntag\, 2.Juli\n			4.Lau
 f zum SaarlandCup = 3.Lauf zur Saar-OL-Challenge\n			(Bierbach)\n		See:
 http://www.orientierungslauf.de/3/1/1/5616\n	http://www.ol-im-saarland.de/
 fileadmin/wettkampf/2017/Ausschreibung-Saar-Challenge-2017.pdf
DTSTART;VALUE=DATE:20170701
DTEND;VALUE=DATE:20170702
LAST-MODIFIED:20170614T231337Z
LOCATION:Bierbach\, Blieskastel\, Saarpfalz-Kreis\, Saarland\, Germany (49.
 263100\, 7.280846\, 13)
SUMMARY:Saar-OL-Challenge - Bierbach - 1-2 July
URL:https://orienteering.lu/en/calendar/events/saar-ol-challenge-bierbach-1
 -2-july/
END:VEVENT
END:VCALENDAR
