BEGIN:VCALENDAR
VERSION:2.0
PRODID:-//orienteering.lu//NONSGML kigkonsult.se iCalcreator 2.10.5//
METHOD:PUBLISH
X-WR-CALDESC:<p>Come and represent proudly Luxembourg !</p>\n\n<p>http://ww
 w.frso.be/uploads/502-Interland2017Bulletin1.pdf</p>
X-WR-TIMEZONE:Europe/Luxembourg
BEGIN:VEVENT
UID:20180701T085229CEST-2799DIcjSB@orienteering.lu
DTSTAMP:20180701T060729Z
CREATED:20170129T004447Z
DESCRIPTION:Come and represent proudly Luxembourg !\n\nhttp://www.frso.be/u
 ploads/502-Interland2017Bulletin1.pdf
DTSTART;VALUE=DATE:20170402
LAST-MODIFIED:20170306T222058Z
LOCATION:Herbeumont\, Neufchâteau\, Luxembourg\, Wallonia\, 6887\, Belgium 
 (49.781536\, 5.237774\, 12)
SUMMARY:Interland 2017
URL:https://orienteering.lu/en/calendar/events/interland-2017/
END:VEVENT
END:VCALENDAR
