BEGIN:VCALENDAR
VERSION:2.0
PRODID:-//orienteering.lu//NONSGML kigkonsult.se iCalcreator 2.10.5//
METHOD:PUBLISH
X-WR-CALDESC:<p>Meeting: Biermuseum/Skihütte</p>
X-WR-TIMEZONE:Europe/Luxembourg
BEGIN:VEVENT
UID:20180701T085359CEST-7390TmHDAU@orienteering.lu
DTSTAMP:20180701T060759Z
CREATED:20170212T213236Z
DESCRIPTION:Meeting: Biermuseum/Skihütte
DTSTART:20170305T090000
DTEND:20170305T130000
LAST-MODIFIED:20170213T175800Z
LOCATION:Tomberg\, St. Vith\, Verviers\, Lüttich\, Wallonia\, 4780\, Belgiu
 m (50.297016\, 6.062479\, 14)
SUMMARY:Hivernale 4 Couleurs - Rodt
URL:https://orienteering.lu/en/calendar/events/hivernale-4-couleurs-rodt/
END:VEVENT
END:VCALENDAR
