BEGIN:VCALENDAR
VERSION:2.0
PRODID:-//orienteering.lu//NONSGML kigkonsult.se iCalcreator 2.10.5//
METHOD:PUBLISH
X-WR-CALDESC:
X-WR-TIMEZONE:Europe/Luxembourg
BEGIN:VEVENT
UID:20180701T085337CEST-0297Vodu44@orienteering.lu
DTSTAMP:20180701T060737Z
CREATED:20170214T171133Z
DESCRIPTION:
DTSTART;VALUE=DATE:20170312
DTEND;VALUE=DATE:20170312
LAST-MODIFIED:20170214T172125Z
LOCATION:Ferrières\, Huy\, Liège\, Wallonia\, 4190\, Belgium (50.399956\, 5
 .605138\, 9)
SUMMARY:Estivale Neuf Couleurs/OrienTRAIL
URL:https://orienteering.lu/en/calendar/events/estivale-neuf-couleurs-orien
 trail/
END:VEVENT
END:VCALENDAR
